BEGIN:VCALENDAR
VERSION:2.0
PRODID:-//LES ARTS EN BALADE A TOULOUSE - ECPv6.15.20//NONSGML v1.0//EN
CALSCALE:GREGORIAN
METHOD:PUBLISH
X-WR-CALNAME:LES ARTS EN BALADE A TOULOUSE
X-ORIGINAL-URL:https://lesartsenbaladeatoulouse.org
X-WR-CALDESC:Évènements pour LES ARTS EN BALADE A TOULOUSE
REFRESH-INTERVAL;VALUE=DURATION:PT1H
X-Robots-Tag:noindex
X-PUBLISHED-TTL:PT1H
BEGIN:VTIMEZONE
TZID:Europe/Paris
BEGIN:DAYLIGHT
TZOFFSETFROM:+0100
TZOFFSETTO:+0200
TZNAME:CEST
DTSTART:20210328T010000
END:DAYLIGHT
BEGIN:STANDARD
TZOFFSETFROM:+0200
TZOFFSETTO:+0100
TZNAME:CET
DTSTART:20211031T010000
END:STANDARD
BEGIN:DAYLIGHT
TZOFFSETFROM:+0100
TZOFFSETTO:+0200
TZNAME:CEST
DTSTART:20220327T010000
END:DAYLIGHT
BEGIN:STANDARD
TZOFFSETFROM:+0200
TZOFFSETTO:+0100
TZNAME:CET
DTSTART:20221030T010000
END:STANDARD
BEGIN:DAYLIGHT
TZOFFSETFROM:+0100
TZOFFSETTO:+0200
TZNAME:CEST
DTSTART:20230326T010000
END:DAYLIGHT
BEGIN:STANDARD
TZOFFSETFROM:+0200
TZOFFSETTO:+0100
TZNAME:CET
DTSTART:20231029T010000
END:STANDARD
END:VTIMEZONE
BEGIN:VEVENT
DTSTART;VALUE=DATE:20220318
DTEND;VALUE=DATE:20220608
DTSTAMP:20260426T044914
CREATED:20220219T084024Z
LAST-MODIFIED:20220511T125003Z
UID:17218-1647561600-1654646399@lesartsenbaladeatoulouse.org
SUMMARY:Exposition collective "Prendre place" aux Olivétains (Saint-Bertrand de Comminges)
DESCRIPTION:  \nCette exposition est organisée dans le cadre des Arts en Balade – Toulouse. \nLes Olivétains\, 1 Parvis de la Cathédrale\, 31510 SAINT-BERTRAND-DE-COMMINGES \nDepuis nos petites ou grandes places\, ici et maintenant\, nous contemplons le temps qui passe lentement ou à pas de géant. Nous prenons place\, en ressassant nos souvenirs\, en toute confiance pour libérer nos audaces. Nous envisageons seul ou ensemble nos chemins. \nPrendre place pour sourire\, embrasser\, aimer\, danser\, devenir fou\, clown ou combattant. \nÀ l’aune de nouveaux dé-confinements\, l’exposition interroge avec subjectivité le déploiement de nos vies individuelles et communes. \nPrendre place pour faire corps\, transmettre et s’engager. Faire corps avec son intimité\, sa famille\, une fratrie\, une sororité. Transmettre pour protéger\, donner\, recevoir ou au contraire rompre avec les normes et les atavismes. \nDire\, témoigner et débattre pour ne pas oublier. S’engager avec légèreté ou conviction pour soutenir\, lutter et métamorphoser nos places.
URL:https://lesartsenbaladeatoulouse.org/event/exposition-collective-prendre-place-aux-olivetains-saint-bertrand-de-comminges/
LOCATION:31510  Saint Bertrand de Comminges\, 1 parvis de la cathédrale\, Saint Bertrand de Comminges\, 31510 \, France
CATEGORIES:Evénements associés
ORGANIZER;CN="Association Les Arts en Balade %C3%A0 Toulouse":MAILTO:lesartsenbalade.toulouse@gmail.com
END:VEVENT
END:VCALENDAR