BEGIN:VCALENDAR
VERSION:2.0
PRODID:-//LES ARTS EN BALADE A TOULOUSE - ECPv6.15.20//NONSGML v1.0//EN
CALSCALE:GREGORIAN
METHOD:PUBLISH
X-WR-CALNAME:LES ARTS EN BALADE A TOULOUSE
X-ORIGINAL-URL:https://lesartsenbaladeatoulouse.org
X-WR-CALDESC:Évènements pour LES ARTS EN BALADE A TOULOUSE
REFRESH-INTERVAL;VALUE=DURATION:PT1H
X-Robots-Tag:noindex
X-PUBLISHED-TTL:PT1H
BEGIN:VTIMEZONE
TZID:Europe/Paris
BEGIN:DAYLIGHT
TZOFFSETFROM:+0100
TZOFFSETTO:+0200
TZNAME:CEST
DTSTART:20220327T010000
END:DAYLIGHT
BEGIN:STANDARD
TZOFFSETFROM:+0200
TZOFFSETTO:+0100
TZNAME:CET
DTSTART:20221030T010000
END:STANDARD
BEGIN:DAYLIGHT
TZOFFSETFROM:+0100
TZOFFSETTO:+0200
TZNAME:CEST
DTSTART:20230326T010000
END:DAYLIGHT
BEGIN:STANDARD
TZOFFSETFROM:+0200
TZOFFSETTO:+0100
TZNAME:CET
DTSTART:20231029T010000
END:STANDARD
BEGIN:DAYLIGHT
TZOFFSETFROM:+0100
TZOFFSETTO:+0200
TZNAME:CEST
DTSTART:20240331T010000
END:DAYLIGHT
BEGIN:STANDARD
TZOFFSETFROM:+0200
TZOFFSETTO:+0100
TZNAME:CET
DTSTART:20241027T010000
END:STANDARD
END:VTIMEZONE
BEGIN:VEVENT
DTSTART;VALUE=DATE:20230907
DTEND;VALUE=DATE:20231126
DTSTAMP:20260425T051538
CREATED:20230629T074723Z
LAST-MODIFIED:20230801T080126Z
UID:29099-1694044800-1700956799@lesartsenbaladeatoulouse.org
SUMMARY:Exposition collective : Sur terre\, en mer et dans le ciel\, La Galerie 3.1
DESCRIPTION:Un voyage\, un tour du monde pour retrouver les forces en présence. Quelles vies ? Quels temps ? Quels espaces ? Faire germer des fils invisibles\, lier les chemins\, découvrir d’autres rivages et rejoindre une autre réalité. Bon vent ? Chercher encore. S’élancer\, danser\, aimer. Divaguer ? Une croisière\, douce et houleuse\, pour suivre nos routes. M’avez-vous vu déjà quelque part ? Sur terre\, en mer et dans le ciel. \nJacqueline Delpy\, Marilina Prigent\, Christelle Richard-Dauphinot\, Valérie Vial\nDU 7 SEPTEMBRE AU 25 NOVEMBRE 2023 \nGalerie 3.1 (du Conseil départemental de la Haute-Garonne)\n7\, Rue Jules Chalande\, 31000 Toulouse \nVernissage le 14 septembre
URL:https://lesartsenbaladeatoulouse.org/event/exposition-collective-voyages-et-errances/
LOCATION:Galerie 3.1\, 7\, rue Jules Chalande 31000 Toulouse\, 7\, rue Jules Chalande\, 31000 Toulouse
CATEGORIES:Evénements associés
ORGANIZER;CN="Association Les Arts en Balade %C3%A0 Toulouse":MAILTO:lesartsenbalade.toulouse@gmail.com
END:VEVENT
BEGIN:VEVENT
DTSTART;VALUE=DATE:20230908
DTEND;VALUE=DATE:20231002
DTSTAMP:20260425T051538
CREATED:20230614T122041Z
LAST-MODIFIED:20230908T062028Z
UID:29041-1694131200-1696204799@lesartsenbaladeatoulouse.org
SUMMARY:Expositions Florilèges de quartiers
DESCRIPTION:Quelques jours avant le week-end des Arts En Balade\, les artistes de certains quartiers se réunissent dans un lieu consacré pour exposer en avant-première un florilège de leurs plus belles œuvres. \nVoici les lieux et dates de chacun de ces florilèges : \n\nQuartier Bayard – Saint-Sernin – Pargaminières (page 16 du livret) :\n\nYaz Cantine : 12\, rue de Belfort\ndu mercredi 20 au vendredi 29/09\nlundi-mardi 12h-15h30\, mercredi 12h-17h30\, jeudi-vendredi 12h-22h \n\nQuartier Bonnefoy – Croix Daurade – Trois Cocus (page 20 du livret) :\n\nUtopia Borderouge : 59\, avenue Maurice Bourgès-Maunoury\ndu vendredi 22/09 au dimanche 01/10\nlundi au vendredi 12h-23h30\, samedi-dimanche 10h-23h30 \nMJC Croix Daurade : 141\, chemin de Nicol\ndu vendredi 22/09 au dimanche 01/10\nlundi-mardi-jeudi 14h-18h45\, mercredi 9h-12h et 13h30-18h45 \n\nQuartier Brienne – Arnaud Bernard – Les Chalets (page 24 du livret) :\n\nBibliothèque Universitaire de l’Arsenal : 11\, rue des Puits Creusés\ndu lundi 11 au jeudi 28/09\nlundi au vendredi 8h-22h\, samedi 9h30-20h \n\nQuartier Guilhemery – Moscou – Saint-Aubain (page 28 du livret) :\n\nCercle Laïque Jean Chaubet : 7\, place Marius Pinel\ndu jeudi 21 au jeudi 28/09\nlundi au vendredi 14h30-18h30 \n\nQuartier Les Fontaines – Pattes d’Oie – Arcs Saint Cyprien (page 36 du livret) :\n\nLa Palette des Possibles : 9\, avenue de Lombez\ndu samedi 23 au jeudi 28/09\nsamedi 14h-19h\, dimanche à jeudi 10h-19h \n\nQuartier Les Minimes – Négreneys – Ponts Jumeaux (page 40 du livret) : \n\nCentre Culturel des Mazades : 10\, avenue des Mazades\ndu jeudi 14 au vendredi 29/09\nlundi au vendredi 9h-12h30 et 13h30-18h30\, samedi 9h-13h \n\nQuartier Roseraie – Château de l’Hers (page 44 du livret) :\n\nAu Troquet : 1\, rue de Carcassonne\ndu vendredi 22/09 au dimanche 01/10\nlundi au samedi 9h-22h\, dimanche 9h-20h \n\nQuartier Saint-Michel – Malroc – La Terrasse (page 48 du livret) :\n\nCanal Sud : 40\, rue Duméril\ndu vendredi 08 au lundi 25/09\nmardi au vendredi 10h-17h \n 
URL:https://lesartsenbaladeatoulouse.org/event/expositions-florileges-de-quartiers/
CATEGORIES:Organisés par AEB
ORGANIZER;CN="Association Les Arts en Balade %C3%A0 Toulouse":MAILTO:lesartsenbalade.toulouse@gmail.com
END:VEVENT
BEGIN:VEVENT
DTSTART;VALUE=DATE:20230919
DTEND;VALUE=DATE:20231029
DTSTAMP:20260425T051538
CREATED:20230624T210733Z
LAST-MODIFIED:20230624T210733Z
UID:29081-1695081600-1698537599@lesartsenbaladeatoulouse.org
SUMMARY:Feux d'ivresses\, Véronique Brill\, Librairie Ombres Blanches
DESCRIPTION:Feux d’ivresses\, sculptures et photographies \nExposition de Véronique Brill \nLibrairie Ombres Blanches et Café Côté Cour \nVernissage le 19 septembre à 18h30
URL:https://lesartsenbaladeatoulouse.org/event/feux-divresses-veronique-brill-librairie-ombres-blanches/
LOCATION:Librairie Ombres blanches 50 rue Gambetta\, 31000 Toulouse
CATEGORIES:Evénements associés
ORGANIZER;CN="Association Les Arts en Balade %C3%A0 Toulouse":MAILTO:lesartsenbalade.toulouse@gmail.com
END:VEVENT
END:VCALENDAR