BEGIN:VCALENDAR
VERSION:2.0
PRODID:-//LES ARTS EN BALADE A TOULOUSE - ECPv6.15.20//NONSGML v1.0//EN
CALSCALE:GREGORIAN
METHOD:PUBLISH
X-WR-CALNAME:LES ARTS EN BALADE A TOULOUSE
X-ORIGINAL-URL:https://lesartsenbaladeatoulouse.org
X-WR-CALDESC:Évènements pour LES ARTS EN BALADE A TOULOUSE
REFRESH-INTERVAL;VALUE=DURATION:PT1H
X-Robots-Tag:noindex
X-PUBLISHED-TTL:PT1H
BEGIN:VTIMEZONE
TZID:Europe/Paris
BEGIN:DAYLIGHT
TZOFFSETFROM:+0100
TZOFFSETTO:+0200
TZNAME:CEST
DTSTART:20210328T010000
END:DAYLIGHT
BEGIN:STANDARD
TZOFFSETFROM:+0200
TZOFFSETTO:+0100
TZNAME:CET
DTSTART:20211031T010000
END:STANDARD
BEGIN:DAYLIGHT
TZOFFSETFROM:+0100
TZOFFSETTO:+0200
TZNAME:CEST
DTSTART:20220327T010000
END:DAYLIGHT
BEGIN:STANDARD
TZOFFSETFROM:+0200
TZOFFSETTO:+0100
TZNAME:CET
DTSTART:20221030T010000
END:STANDARD
BEGIN:DAYLIGHT
TZOFFSETFROM:+0100
TZOFFSETTO:+0200
TZNAME:CEST
DTSTART:20230326T010000
END:DAYLIGHT
BEGIN:STANDARD
TZOFFSETFROM:+0200
TZOFFSETTO:+0100
TZNAME:CET
DTSTART:20231029T010000
END:STANDARD
BEGIN:DAYLIGHT
TZOFFSETFROM:+0100
TZOFFSETTO:+0200
TZNAME:CEST
DTSTART:20240331T010000
END:DAYLIGHT
BEGIN:STANDARD
TZOFFSETFROM:+0200
TZOFFSETTO:+0100
TZNAME:CET
DTSTART:20241027T010000
END:STANDARD
END:VTIMEZONE
BEGIN:VEVENT
DTSTART;TZID=Europe/Paris:20231121T183000
DTEND;TZID=Europe/Paris:20231121T203000
DTSTAMP:20260419T164702
CREATED:20231005T213237Z
LAST-MODIFIED:20231030T160857Z
UID:29942-1700591400-1700598600@lesartsenbaladeatoulouse.org
SUMMARY:Réunion de bilan de l'édition 2023 (artistes et bénévoles)
DESCRIPTION:
URL:https://lesartsenbaladeatoulouse.org/event/reunion-de-bilan-de-ledition-2023-artistes-et-benevoles/
CATEGORIES:Organisés par AEB
END:VEVENT
BEGIN:VEVENT
DTSTART;TZID=Europe/Paris:20231006T110000
DTEND;TZID=Europe/Paris:20231008T190000
DTSTAMP:20260419T164702
CREATED:20231002T083434Z
LAST-MODIFIED:20231002T083851Z
UID:29869-1696590000-1696791600@lesartsenbaladeatoulouse.org
SUMMARY:Exposition au Réservoir (rue Garrigou)
DESCRIPTION: 
URL:https://lesartsenbaladeatoulouse.org/event/exposition-au-reservoir-rue-garrigou/
LOCATION:Réservoir rue Garigou\, 7 rue Garrigou\, Toulouse\, 31500\, France
CATEGORIES:Organisés par AEB
END:VEVENT
BEGIN:VEVENT
DTSTART;VALUE=DATE:20231005
DTEND;VALUE=DATE:20231016
DTSTAMP:20260419T164702
CREATED:20231003T184725Z
LAST-MODIFIED:20231004T161025Z
UID:29883-1696464000-1697414399@lesartsenbaladeatoulouse.org
SUMMARY:Exposition au Falcou (Colomiers)
DESCRIPTION:Le week-end AEB se prolonge au Domaine du Falcou jusqu’au dimanche 15 octobre.\n 22\, chemin de la Passerelle\, 31770 Colomiers \nArtistes présents : ESSA (Serge Allain)\, Louis Viel et Didier Genévrier (exposition invitée de photos des chais de Bercy avant les travaux de réaménagement prises l’été 1977). \nDu jeudi 5/10 au samedi 7/10 de 14h à 18h\nDimanche 2/10 de 12h à 18h\nDu jeudi 12/10 au samedi 14/10 de 14h à 18h\nDimanche 15/10 de 12h à 19h \nAnimation pour le finissage le dimanche 15/10 avec repas champêtre (participation 15€\, gratuit pour les enfants) et lectures.\nInscription nécessaire pour le repas\, Tél : 0688054843 \nPROGRAMME 15 octobre au Falcou \n\nDe 12 à 15 heures – Repas champêtre ( grillades et boissons) à la guinguette\ndu théâtre de verdure. Ambiance musicale et festivités.\nInscription nécessaire pour le repas Tél : 0688054843\nDe 15 à 17 heures – Echange avec les artistes et découverte du Parc.\n17 heures – Présentation par Louis Vieil de son travail photographique sur le\nthème de l’eau accompagné d’une lecture poétique par son auteur.\n19 heures – Fin des festivités autour d’un pot de l’amitié.
URL:https://lesartsenbaladeatoulouse.org/event/exposition-au-falcou-colomiers/
LOCATION:Domaine du Falcou\, 22 Chemin de la Passerelle\, Colomiers\, 31770
CATEGORIES:Organisés par AEB
END:VEVENT
BEGIN:VEVENT
DTSTART;VALUE=DATE:20230929
DTEND;VALUE=DATE:20231002
DTSTAMP:20260419T164702
CREATED:20230127T144255Z
LAST-MODIFIED:20230904T121406Z
UID:26110-1695945600-1696204799@lesartsenbaladeatoulouse.org
SUMMARY:7ème ouverture des ateliers d'artistes à Toulouse et alentour
DESCRIPTION:Une partie seulement des ateliers sont ouverts le vendredi 29/09\, après-midi ou soirée. Voir la liste sur le site (liste des artistes ou carte des ateliers) \nSamedi 30/09 : 11h-20h \nDimanche 01/10: 11h-18h \n 
URL:https://lesartsenbaladeatoulouse.org/event/7eme-ouverture-des-ateliers-dartistes-a-toulouse-et-alentour/
CATEGORIES:Organisés par AEB
ORGANIZER;CN="Association Les Arts en Balade %C3%A0 Toulouse":MAILTO:lesartsenbalade.toulouse@gmail.com
END:VEVENT
BEGIN:VEVENT
DTSTART;VALUE=DATE:20230908
DTEND;VALUE=DATE:20231002
DTSTAMP:20260419T164702
CREATED:20230614T122041Z
LAST-MODIFIED:20230908T062028Z
UID:29041-1694131200-1696204799@lesartsenbaladeatoulouse.org
SUMMARY:Expositions Florilèges de quartiers
DESCRIPTION:Quelques jours avant le week-end des Arts En Balade\, les artistes de certains quartiers se réunissent dans un lieu consacré pour exposer en avant-première un florilège de leurs plus belles œuvres. \nVoici les lieux et dates de chacun de ces florilèges : \n\nQuartier Bayard – Saint-Sernin – Pargaminières (page 16 du livret) :\n\nYaz Cantine : 12\, rue de Belfort\ndu mercredi 20 au vendredi 29/09\nlundi-mardi 12h-15h30\, mercredi 12h-17h30\, jeudi-vendredi 12h-22h \n\nQuartier Bonnefoy – Croix Daurade – Trois Cocus (page 20 du livret) :\n\nUtopia Borderouge : 59\, avenue Maurice Bourgès-Maunoury\ndu vendredi 22/09 au dimanche 01/10\nlundi au vendredi 12h-23h30\, samedi-dimanche 10h-23h30 \nMJC Croix Daurade : 141\, chemin de Nicol\ndu vendredi 22/09 au dimanche 01/10\nlundi-mardi-jeudi 14h-18h45\, mercredi 9h-12h et 13h30-18h45 \n\nQuartier Brienne – Arnaud Bernard – Les Chalets (page 24 du livret) :\n\nBibliothèque Universitaire de l’Arsenal : 11\, rue des Puits Creusés\ndu lundi 11 au jeudi 28/09\nlundi au vendredi 8h-22h\, samedi 9h30-20h \n\nQuartier Guilhemery – Moscou – Saint-Aubain (page 28 du livret) :\n\nCercle Laïque Jean Chaubet : 7\, place Marius Pinel\ndu jeudi 21 au jeudi 28/09\nlundi au vendredi 14h30-18h30 \n\nQuartier Les Fontaines – Pattes d’Oie – Arcs Saint Cyprien (page 36 du livret) :\n\nLa Palette des Possibles : 9\, avenue de Lombez\ndu samedi 23 au jeudi 28/09\nsamedi 14h-19h\, dimanche à jeudi 10h-19h \n\nQuartier Les Minimes – Négreneys – Ponts Jumeaux (page 40 du livret) : \n\nCentre Culturel des Mazades : 10\, avenue des Mazades\ndu jeudi 14 au vendredi 29/09\nlundi au vendredi 9h-12h30 et 13h30-18h30\, samedi 9h-13h \n\nQuartier Roseraie – Château de l’Hers (page 44 du livret) :\n\nAu Troquet : 1\, rue de Carcassonne\ndu vendredi 22/09 au dimanche 01/10\nlundi au samedi 9h-22h\, dimanche 9h-20h \n\nQuartier Saint-Michel – Malroc – La Terrasse (page 48 du livret) :\n\nCanal Sud : 40\, rue Duméril\ndu vendredi 08 au lundi 25/09\nmardi au vendredi 10h-17h \n 
URL:https://lesartsenbaladeatoulouse.org/event/expositions-florileges-de-quartiers/
CATEGORIES:Organisés par AEB
ORGANIZER;CN="Association Les Arts en Balade %C3%A0 Toulouse":MAILTO:lesartsenbalade.toulouse@gmail.com
END:VEVENT
BEGIN:VEVENT
DTSTART;TZID=Europe/Paris:20230511T180000
DTEND;TZID=Europe/Paris:20230511T203000
DTSTAMP:20260419T164702
CREATED:20230122T175105Z
LAST-MODIFIED:20230420T175005Z
UID:26014-1683828000-1683837000@lesartsenbaladeatoulouse.org
SUMMARY:Réunion de lancement avec les participants de l'édition 2023
DESCRIPTION:La réunion de lancement permet d’organiser avec les participants la communication sur l’évènement.\nSont invités les artistes et les bénévoles.\nRéunion suivie d’un pot amical \nsalle Osète\, 10 Rue du Lieutenant-Colonel Pélissier\, 31000 Toulouse
URL:https://lesartsenbaladeatoulouse.org/event/reunion-de-lancement-avec-les-participants-de-ledition-2023/
LOCATION:Salle Osète (Espace Duranti)\,  10 Rue du Lieutenant-Colonel Pélissier 31000 Toulouse\, Rue du Lieutenant Colonel Pélissier\, 31000 Toulouse\,\, Toulouse
CATEGORIES:Organisés par AEB
END:VEVENT
BEGIN:VEVENT
DTSTART;VALUE=DATE:20230415
DTEND;VALUE=DATE:20230416
DTSTAMP:20260419T164702
CREATED:20230122T174304Z
LAST-MODIFIED:20230122T175401Z
UID:26011-1681516800-1681603199@lesartsenbaladeatoulouse.org
SUMMARY:Date limite pour le paiement des droits d'inscription pour l'édition 2023
DESCRIPTION:Pour confirmer leur inscription les participants doivent s’acquitter du paiement des droits d’inscription.
URL:https://lesartsenbaladeatoulouse.org/event/limite-paiement-des-droits-dinscription-pour-ledition-2023/
CATEGORIES:Organisés par AEB
ORGANIZER;CN="Association Les Arts en Balade %C3%A0 Toulouse":MAILTO:lesartsenbalade.toulouse@gmail.com
END:VEVENT
BEGIN:VEVENT
DTSTART;VALUE=DATE:20230206
DTEND;VALUE=DATE:20230316
DTSTAMP:20260419T164702
CREATED:20230122T173825Z
LAST-MODIFIED:20230122T173825Z
UID:26009-1675641600-1678924799@lesartsenbaladeatoulouse.org
SUMMARY:Ouverture des inscriptions pour l'édition 2023 de l'ouverture des ateliers d'artistes
DESCRIPTION:L’édition 2023 aura lieu du vendredi 29/09 au dimanche 01/10 2023\nPour cette 7ème ouverture des ateliers d’artistes peuvent s’inscrire uniquement les artistes ayant participé ou candidaté en 2022. Ceux-ci recevront un mail pour leur proposer de s’inscrire.
URL:https://lesartsenbaladeatoulouse.org/event/ouverture-des-inscriptions-pour-ledition-2023-de-louverture-des-ateliers-dartistes/
CATEGORIES:Organisés par AEB
ORGANIZER;CN="Association Les Arts en Balade %C3%A0 Toulouse":MAILTO:lesartsenbalade.toulouse@gmail.com
END:VEVENT
BEGIN:VEVENT
DTSTART;TZID=Europe/Paris:20230119T180000
DTEND;TZID=Europe/Paris:20230119T180000
DTSTAMP:20260419T164702
CREATED:20230104T164536Z
LAST-MODIFIED:20230104T164905Z
UID:25706-1674151200-1674151200@lesartsenbaladeatoulouse.org
SUMMARY:Accueil des bénévoles
DESCRIPTION:Si vous êtes intéressés pour participer comme bénévoles à la prochaine édition des arts en balade\, venez nous contacter et discuter de nos activités
URL:https://lesartsenbaladeatoulouse.org/event/accueil-des-benevoles/
LOCATION:Maison de la citoyenneté Centre\, 5 rue Paul Mériel\, Toulouse\, 31000
CATEGORIES:Organisés par AEB
END:VEVENT
BEGIN:VEVENT
DTSTART;TZID=Europe/Paris:20221109T183000
DTEND;TZID=Europe/Paris:20221109T210000
DTSTAMP:20260419T164702
CREATED:20221014T091056Z
LAST-MODIFIED:20221014T093541Z
UID:24582-1668018600-1668027600@lesartsenbaladeatoulouse.org
SUMMARY:Rencontre bilan de l'édition 2022
DESCRIPTION:Nous proposons aux artistes participants et aux partenaires une rencontre pour échanger sur le bilan du week-end d’ouverture des ateliers d’artistes des Arts en Balade.\nMercredi 9 novembre à 18h30\, Salle Castelbou\n22\, rue Léonce-Castelbou\nAccès métro ligne B – station Compans-Caffarelli \nLe bilan portera sur la fréquentation selon les quartiers\, les évènements associés et sur la communication (affiches et affichage\, livret papier et carte\, réseaux sociaux AEB\, site internet AEB\, parutions presse et autres moyens d’information).\nLa discussion sera suivie d’un pot.  \nSi vous ne l’avez pas encore fait\, merci de répondre à une enquête pour compléter le bilan:  Enquête
URL:https://lesartsenbaladeatoulouse.org/event/rencontre-bilan-de-ledition-2022/
LOCATION:Salle Castebou\, 22 rue Léonce Castelbou\, Toulouse\, 31000
CATEGORIES:Organisés par AEB
END:VEVENT
BEGIN:VEVENT
DTSTART;TZID=Europe/Paris:20220929T180000
DTEND;TZID=Europe/Paris:20220929T180000
DTSTAMP:20260419T164702
CREATED:20220926T183513Z
LAST-MODIFIED:20220927T130425Z
UID:24406-1664474400-1664474400@lesartsenbaladeatoulouse.org
SUMMARY:Vernissage exposition gravures à Ombres Blanches Bilitis Farreny\, Iwa
DESCRIPTION:
URL:https://lesartsenbaladeatoulouse.org/event/vernissage-exposition-gravures-a-ombres-blanches/
LOCATION:Librairie Ombres blanches 50 rue Gambetta\, 31000 Toulouse
CATEGORIES:Organisés par AEB
END:VEVENT
BEGIN:VEVENT
DTSTART;TZID=Europe/Paris:20220920T080000
DTEND;TZID=Europe/Paris:20221015T170000
DTSTAMP:20260419T164702
CREATED:20220823T132357Z
LAST-MODIFIED:20220926T183107Z
UID:23309-1663660800-1665853200@lesartsenbaladeatoulouse.org
SUMMARY:Gravures Café Côté Cour Ombres Blanches (Bilitis Farenny\, Iwa)
DESCRIPTION:Exposition au Café Côté Cour\, Gravures: Bilitis Farenny\, Iwa\nDu mardi 20 septembre au samedi 15 octobre\nLibrairie Ombres Blanches\, 50 rue Gambetta\, 31000 Toulouse \nVernissage : jeudi 29 septembre\, 18h-19h.
URL:https://lesartsenbaladeatoulouse.org/event/gravures-cafe-cote-cour-ombres-blanches/
CATEGORIES:Organisés par AEB
END:VEVENT
BEGIN:VEVENT
DTSTART;TZID=Europe/Paris:20220906T183000
DTEND;TZID=Europe/Paris:20220920T223000
DTSTAMP:20260419T164702
CREATED:20220723T064021Z
LAST-MODIFIED:20220907T045634Z
UID:21980-1662489000-1663713000@lesartsenbaladeatoulouse.org
SUMMARY:Inscriptions aux cours de Community Management (réseaux sociaux Facebook et Instagram)
DESCRIPTION:Avant le lancement du week-end des arts en balade 2022\, l’association vous propose des cours de Community Management afin de mieux gérer vos différents réseaux sociaux notamment Facebook et Instagram. \nPour que les cours soient les plus adaptés possible aux différentes demandes\, nous avons prévu 4 sessions pour plateformes et niveaux différents: \n1 – Session Instagram pour débutants\, le mardi 06 SEPTEMBRE à 18h30 : prise en main de la plateforme\, qu’est ce qu’Instagram\, comment poser des photos\, des vidéos\, des story\, choisir ses # etc. \n2 – Session Facebook pour débutants\, le lundi 19 SEPTEMBRE à 18h30 : prise en main de la plateforme\, qu’est ce que Facebook\, comment poser des photos\, des vidéos\, pour quelle cible\, etc. \n3 – Session Instagram avancée\, le mardi 13 SEPTEMBRE à 18h30 : aller plus loin\, créer des concours\, des publicités\, voir ses statistiques\, la fréquence de publication etc \n4 – Session Facebook avancée\, le mardi 20 SEPTEMBRE à 18h30 : aller plus loin\, créer des concours\, des publicités\, voir ses statistiques\, la fréquence de publication etc \nLes formations dureront 2h\, avec une participation demandée de 10€ par personne. Elles seront dispensées à la Palette des Possible\, galerie tenue par Régine Authier\, au 9 Av. de Lombez\, 31300 Toulouse. \nIci ne sont énoncés que des exemples des axes de travail sur lesquels nous allons travailler\, mais le cours étant très interactif\, nous l’adapterons aux demandes et questions des participants. À la fin de chaque session\, un PDF complet du cours vous sera envoyé par mail. \nAfin de vous inscrire\, veuillez remplir le formulaire en cliquant sur le bouton ci dessous “je participe” et en mentionnant dans l’encart “custom1” le numéro de la session qui vous intéresse (1\, 2\, 3 ou 4). \nDans l’attente de vous recevoir lors de ces formations\, l’équipe AEB vous souhaite à tous un bon été! \n  \n 
URL:https://lesartsenbaladeatoulouse.org/event/cours-reseaux-sociaux-facebook-instagram/
LOCATION:Palette des Possibles\, 9\, avenue de Lombez\, Toulouse\, Sélectionner un État :\, 31300\, France
CATEGORIES:Organisés par AEB
ATTACH;FMTTYPE=image/jpeg:https://lesartsenbaladeatoulouse.org/wp-content/uploads/2022/07/Inscriptions-ouvertes-Cours-reseaux-sociaux.jpg
ORGANIZER;CN="Association Les Arts en Balade %C3%A0 Toulouse":MAILTO:lesartsenbalade.toulouse@gmail.com
END:VEVENT
BEGIN:VEVENT
DTSTART;TZID=Europe/Paris:20220523T183000
DTEND;TZID=Europe/Paris:20220523T210000
DTSTAMP:20260419T164702
CREATED:20220416T125550Z
LAST-MODIFIED:20220416T130559Z
UID:18963-1653330600-1653339600@lesartsenbaladeatoulouse.org
SUMMARY:Réunion Lancement de la 5ème édition (inscription)
DESCRIPTION:Cette réunion est ouverte à tous les participants à la 5ème édition (2022) au week-end d’ouverture d’ateliers d’artistes à Toulouse et alentours (23-25 septembre)\, ainsi qu’aux membres du jury de sélection\, membres de l’association\, bénévoles et partenaires. \nObjectifs: présentation de l’édition 2022\, présentation et discussion de diverses initiatives pour animer certains quartiers\, organisation collective pour la promotion de l’évènement\, faire connaissance et échanger des projets… \n 
URL:https://lesartsenbaladeatoulouse.org/event/reunion-lancement-de-la-5eme-edition-inscription/
LOCATION:Salle Osète (Espace Duranti)\,  10 Rue du Lieutenant-Colonel Pélissier 31000 Toulouse\, Rue du Lieutenant Colonel Pélissier\, 31000 Toulouse\,\, Toulouse
CATEGORIES:Organisés par AEB
ORGANIZER;CN="Association Les Arts en Balade %C3%A0 Toulouse":MAILTO:lesartsenbalade.toulouse@gmail.com
END:VEVENT
END:VCALENDAR