BEGIN:VCALENDAR
VERSION:2.0
PRODID:-//LES ARTS EN BALADE A TOULOUSE - ECPv6.15.20//NONSGML v1.0//EN
CALSCALE:GREGORIAN
METHOD:PUBLISH
X-WR-CALNAME:LES ARTS EN BALADE A TOULOUSE
X-ORIGINAL-URL:https://lesartsenbaladeatoulouse.org
X-WR-CALDESC:Évènements pour LES ARTS EN BALADE A TOULOUSE
REFRESH-INTERVAL;VALUE=DURATION:PT1H
X-Robots-Tag:noindex
X-PUBLISHED-TTL:PT1H
BEGIN:VTIMEZONE
TZID:Europe/Paris
BEGIN:DAYLIGHT
TZOFFSETFROM:+0100
TZOFFSETTO:+0200
TZNAME:CEST
DTSTART:20250330T010000
END:DAYLIGHT
BEGIN:STANDARD
TZOFFSETFROM:+0200
TZOFFSETTO:+0100
TZNAME:CET
DTSTART:20251026T010000
END:STANDARD
BEGIN:DAYLIGHT
TZOFFSETFROM:+0100
TZOFFSETTO:+0200
TZNAME:CEST
DTSTART:20260329T010000
END:DAYLIGHT
BEGIN:STANDARD
TZOFFSETFROM:+0200
TZOFFSETTO:+0100
TZNAME:CET
DTSTART:20261025T010000
END:STANDARD
BEGIN:DAYLIGHT
TZOFFSETFROM:+0100
TZOFFSETTO:+0200
TZNAME:CEST
DTSTART:20270328T010000
END:DAYLIGHT
BEGIN:STANDARD
TZOFFSETFROM:+0200
TZOFFSETTO:+0100
TZNAME:CET
DTSTART:20271031T010000
END:STANDARD
END:VTIMEZONE
BEGIN:VEVENT
DTSTART;VALUE=DATE:20260105
DTEND;VALUE=DATE:20260302
DTSTAMP:20260423T135430
CREATED:20251208T174428Z
LAST-MODIFIED:20251208T180649Z
UID:34160-1767571200-1772409599@lesartsenbaladeatoulouse.org
SUMMARY:Candidatures pour les éditions 2026 et 2027
DESCRIPTION:Le principe de la manifestation « Arts en Balade à Toulouse et alentours » consiste en l’ouverture d’ateliers individuels ou collectifs d’artistes plasticiens\, y compris photographes\, graffeurs et vidéastes\, de la ville de Toulouse et des environs. Les artistes participants s’acquittent d’un droit de participation. \nLes artistes s’engagent à être présents pendant la durée de la manifestation\, tandis que l’association s’engage à organiser et à relayer le plus largement possible la communication essentielle à son bon déroulement auprès des médias\, du grand public et des participants. \nLa sélection par un jury des participants à la manifestation\, organisée le dernier week-end de septembre\, a lieu tous les deux ans. Les candidatures peuvent concerner les années 2026 et/ou 2027. \nEdition 2026 du samedi 26/09/2026 au dimanche 27/09/2026 \nEdition 2027 du samedi 25/09/2027 au dimanche 26/09/2027
URL:https://lesartsenbaladeatoulouse.org/event/candidatures-pour-les-editions-2026-et-2027/
END:VEVENT
BEGIN:VEVENT
DTSTART;VALUE=DATE:20260328
DTEND;VALUE=DATE:20260329
DTSTAMP:20260423T135430
CREATED:20260310T142210Z
LAST-MODIFIED:20260310T142210Z
UID:35703-1774656000-1774742399@lesartsenbaladeatoulouse.org
SUMMARY:Réunion du jury
DESCRIPTION:
URL:https://lesartsenbaladeatoulouse.org/event/reunion-du-jury/
CATEGORIES:Organisés par AEB
ORGANIZER;CN="Association Les Arts en Balade %C3%A0 Toulouse":MAILTO:lesartsenbalade.toulouse@gmail.com
END:VEVENT
END:VCALENDAR